BEGIN:VCALENDAR
VERSION:2.0
PRODID:-//Plone.org//NONSGML plone.app.event//EN
X-WR-TIMEZONE:Europe/Madrid
BEGIN:VEVENT
SUMMARY:Lliurament dels Premis Mn. Martí Amagat, 35a Mostra Literària, i Premis del 20è Concurs de Crítica Teatral Francesc Aymerich
DTSTART;TZID=Europe/Madrid;VALUE=DATE-TIME:20160529T120000
DTEND;TZID=Europe/Madrid;VALUE=DATE-TIME:20160529T130000
DTSTAMP;VALUE=DATE-TIME:20260420T185003Z
UID:1e9dbf556172f01f062e2a8af7d2c05a
CREATED;VALUE=DATE-TIME:20160529T000000Z
CATEGORIES:Literatura,Música,Teatre
LOCATION:Sala Josep Maria Arnau del C.C.Calisay - Riera del Pare Fita, 31
ORGANIZER:Regidoria de Cultura, Regidoria d'Educació i Servei Municipal de Català
URL:https://arenysdemar.cat/document.php?id=31257
END:VEVENT
END:VCALENDAR