BEGIN:VCALENDAR
VERSION:2.0
PRODID:-//Plone.org//NONSGML plone.app.event//EN
X-WR-TIMEZONE:Europe/Madrid
BEGIN:VEVENT
SUMMARY:Conferència: Primers auxilis en infants
DTSTART;TZID=Europe/Madrid;VALUE=DATE-TIME:20160505T173000
DTEND;TZID=Europe/Madrid;VALUE=DATE-TIME:20160505T183000
DTSTAMP;VALUE=DATE-TIME:20260422T015002Z
UID:38c0d229bc3d34fdba17fc01631f2d34
CREATED;VALUE=DATE-TIME:20160505T000000Z
CATEGORIES:Conferència
LOCATION:Biblioteca Escola Sinera
ORGANIZER:Escola de Pares Creixent 3.0 Escola Sinera
URL:https://arenysdemar.cat/document.php?id=31268
END:VEVENT
END:VCALENDAR