BEGIN:VCALENDAR
VERSION:2.0
PRODID:-//Plone.org//NONSGML plone.app.event//EN
X-WR-TIMEZONE:Europe/Madrid
BEGIN:VEVENT
SUMMARY:Taller de defensa personal i Kick Boxing
DTSTART;TZID=Europe/Madrid;VALUE=DATE-TIME:20160527T173000
DTEND;TZID=Europe/Madrid;VALUE=DATE-TIME:20160527T183000
DTSTAMP;VALUE=DATE-TIME:20260421T205107Z
UID:108eee722c9210f806cfd2568d08c724
CREATED;VALUE=DATE-TIME:20160527T000000Z
CATEGORIES:Cursos
LOCATION:Espai Jove del C.C.Calisay - Riera del Pare Fita, 31
ORGANIZER:Regidoria d'Infància i Joventut
DESCRIPTION:Amb la col·laboració d'Enrique Navarro
URL:https://arenysdemar.cat/document.php?id=31274
END:VEVENT
END:VCALENDAR