BEGIN:VCALENDAR
VERSION:2.0
PRODID:-//Plone.org//NONSGML plone.app.event//EN
X-WR-TIMEZONE:Europe/Madrid
BEGIN:VEVENT
SUMMARY:Concert: Vola el vent
DTSTART;TZID=Europe/Madrid;VALUE=DATE-TIME:20160515T173000
DTEND;TZID=Europe/Madrid;VALUE=DATE-TIME:20160515T183000
DTSTAMP;VALUE=DATE-TIME:20260422T032312Z
UID:30753260e95f0ed6e428aa90ab0beb9f
CREATED;VALUE=DATE-TIME:20160515T000000Z
CATEGORIES:Música
LOCATION:Convent dels Frares Caputxins
ORGANIZER:Associació Escola de Música d'Arenys de Mar
URL:https://arenysdemar.cat/document.php?id=31278
END:VEVENT
END:VCALENDAR