BEGIN:VCALENDAR
VERSION:2.0
PRODID:-//Plone.org//NONSGML plone.app.event//EN
X-WR-TIMEZONE:Europe/Madrid
BEGIN:VEVENT
SUMMARY:Presentació del llibre: A l'ombra del gessamí, de Nathalie Pons
DTSTART;TZID=Europe/Madrid;VALUE=DATE-TIME:20160421T193000
DTEND;TZID=Europe/Madrid;VALUE=DATE-TIME:20160421T203000
DTSTAMP;VALUE=DATE-TIME:20260422T030632Z
UID:8beb2d5056a7083061b101dcf97f910f
CREATED;VALUE=DATE-TIME:20160421T000000Z
CATEGORIES:Literatura
LOCATION:Sala d'Actes de la Biblioteca - C. Bonaire, 2
ORGANIZER:Biblioteca - Regidoria de Cultura i Editorial Efadós
DESCRIPTION:a càrrec de Maria Teresa Bertran, escriptora i amb la presència de l'autora
URL:https://arenysdemar.cat/document.php?id=31279
END:VEVENT
END:VCALENDAR