BEGIN:VCALENDAR
VERSION:2.0
PRODID:-//Plone.org//NONSGML plone.app.event//EN
X-WR-TIMEZONE:Europe/Madrid
BEGIN:VEVENT
SUMMARY:4a Cursa d'Orientació O-Free
DTSTART;TZID=Europe/Madrid;VALUE=DATE-TIME:20160508T090000
DTEND;TZID=Europe/Madrid;VALUE=DATE-TIME:20160508T100000
DTSTAMP;VALUE=DATE-TIME:20260421T232613Z
UID:b9cae94c44677eda60ceb6a8f54ab75c
CREATED;VALUE=DATE-TIME:20160508T000000Z
CATEGORIES:Esports
LOCATION:CE Fondo de les Creus - Fondo de les Creus, s/n
ORGANIZER:Regidoria d'Esports
COMMENT:Preu: 18 euros
URL:https://arenysdemar.cat/document.php?id=31282
END:VEVENT
END:VCALENDAR