BEGIN:VCALENDAR
VERSION:2.0
PRODID:-//Plone.org//NONSGML plone.app.event//EN
X-WR-TIMEZONE:Europe/Madrid
BEGIN:VEVENT
SUMMARY:Portes Obertes del Club Nàutic d'Arenys de Mar
DTSTART;TZID=Europe/Madrid;VALUE=DATE-TIME:20160521T090000
DTEND;TZID=Europe/Madrid;VALUE=DATE-TIME:20160521T100000
DTSTAMP;VALUE=DATE-TIME:20260421T063527Z
UID:dff4938b0f4f71daf60eb928d48dc099
CREATED;VALUE=DATE-TIME:20160521T000000Z
CATEGORIES:Esports
LOCATION:Club Nàutic d'Arenys de Mar
ORGANIZER:Club Nàutic d'Arenys de Mar
COMMENT:Durada: També diumenge 22 de maig
URL:https://arenysdemar.cat/document.php?id=31308
END:VEVENT
END:VCALENDAR