BEGIN:VCALENDAR
VERSION:2.0
PRODID:-//Plone.org//NONSGML plone.app.event//EN
X-WR-TIMEZONE:Europe/Madrid
BEGIN:VEVENT
SUMMARY:Torneig Futbol 7 Benjamí i Aleví
DTSTART;TZID=Europe/Madrid;VALUE=DATE-TIME:20160611T090000
DTEND;TZID=Europe/Madrid;VALUE=DATE-TIME:20160611T100000
DTSTAMP;VALUE=DATE-TIME:20260421T232715Z
UID:efa4f8a0cebc65d69ea68dd8d33a3916
CREATED;VALUE=DATE-TIME:20160611T000000Z
CATEGORIES:Esports
LOCATION:Camp de Futbol - Rial de sa Clavella, s/n
ORGANIZER:Club de Futbol Arenys de Mar i regidoria d'esports
COMMENT:Durada: També diumenge 12 de juny
URL:https://arenysdemar.cat/document.php?id=31310
END:VEVENT
END:VCALENDAR