BEGIN:VCALENDAR
VERSION:2.0
PRODID:-//Plone.org//NONSGML plone.app.event//EN
X-WR-TIMEZONE:Europe/Madrid
BEGIN:VEVENT
SUMMARY:Inauguració del Saló d'Art-Estiu 2016
DTSTART;TZID=Europe/Madrid;VALUE=DATE-TIME:20160618T190000
DTEND;TZID=Europe/Madrid;VALUE=DATE-TIME:20160618T200000
DTSTAMP;VALUE=DATE-TIME:20260420T024748Z
UID:e5440a6f14633873243a83df7939367a
CREATED;VALUE=DATE-TIME:20160618T000000Z
CATEGORIES:Exposició
LOCATION:Riera Pare Fita, 1 - Riera Pare Fita, 1
ORGANIZER:Mitjanit
COMMENT:Durada: fins al 28 d´agost del 2016
DESCRIPTION:Exposició de treballs d'artistes prioritàriament arenyencs
URL:https://arenysdemar.cat/document.php?id=31334
END:VEVENT
END:VCALENDAR