BEGIN:VCALENDAR
VERSION:2.0
PRODID:-//Plone.org//NONSGML plone.app.event//EN
X-WR-TIMEZONE:Europe/Madrid
BEGIN:VEVENT
SUMMARY:Festa de carrer al Rial Sa Clavella
DTSTART;TZID=Europe/Madrid;VALUE=DATE-TIME:20160820T000000
DTEND;TZID=Europe/Madrid;VALUE=DATE-TIME:20160820T010000
DTSTAMP;VALUE=DATE-TIME:20260425T142237Z
UID:cce75fbcaef08c40171481ccf14dbe7f
CREATED;VALUE=DATE-TIME:20160820T000000Z
CATEGORIES:Festa
LOCATION:al Rial Sa Clavella
ORGANIZER:Comissió de festes Rial Sa Clavella
URL:https://arenysdemar.cat/document.php?id=31344
END:VEVENT
END:VCALENDAR