BEGIN:VCALENDAR
VERSION:2.0
PRODID:-//Plone.org//NONSGML plone.app.event//EN
X-WR-TIMEZONE:Europe/Madrid
BEGIN:VEVENT
SUMMARY:Presentació del llibre: El viatge de Companys
DTSTART;TZID=Europe/Madrid;VALUE=DATE-TIME:20160617T193000
DTEND;TZID=Europe/Madrid;VALUE=DATE-TIME:20160617T203000
DTSTAMP;VALUE=DATE-TIME:20260420T101354Z
UID:ba22a4a830ce4fa5581a07fcbf39f538
CREATED;VALUE=DATE-TIME:20160617T000000Z
CATEGORIES:Literatura
LOCATION:Club Nàutic d'Arenys de Mar
ORGANIZER:Club Nàutic d'Arenys de Mar, Plataforma per la Llengua d'Arenys de Mar i Assemblea Nacional Catalana d'Arenys de Mar
DESCRIPTION:d'Antoni Tortajada i Eloi Vila
URL:https://arenysdemar.cat/document.php?id=31379
END:VEVENT
END:VCALENDAR