BEGIN:VCALENDAR
VERSION:2.0
PRODID:-//Plone.org//NONSGML plone.app.event//EN
X-WR-TIMEZONE:Europe/Madrid
BEGIN:VEVENT
SUMMARY:Concert de banda
DTSTART;TZID=Europe/Madrid;VALUE=DATE-TIME:20160527T190000
DTEND;TZID=Europe/Madrid;VALUE=DATE-TIME:20160527T200000
DTSTAMP;VALUE=DATE-TIME:20260421T205052Z
UID:303464f0b87d6709fdefdf9aa5a8dd40
CREATED;VALUE=DATE-TIME:20160527T000000Z
CATEGORIES:Música
LOCATION:Sala Polivalent del C.C.Calisay - Riera Pare Fita, 31
ORGANIZER:Associació Escola de Música d'Arenys de Mar
DESCRIPTION:Intercanvi de la Banda de l'EMA amb la Jugendblasorchester Neu-Ulm d'Alemanya
URL:https://arenysdemar.cat/document.php?id=31382
END:VEVENT
END:VCALENDAR