BEGIN:VCALENDAR
VERSION:2.0
PRODID:-//Plone.org//NONSGML plone.app.event//EN
X-WR-TIMEZONE:Europe/Madrid
BEGIN:VEVENT
SUMMARY:Baixada al pregó
DTSTART;TZID=Europe/Madrid;VALUE=DATE-TIME:20160708T193000
DTEND;TZID=Europe/Madrid;VALUE=DATE-TIME:20160708T203000
DTSTAMP;VALUE=DATE-TIME:20260425T123935Z
UID:1ce67de59ec36c2d7883e504797e2ebd
CREATED;VALUE=DATE-TIME:20160708T000000Z
CATEGORIES:Festa
LOCATION:Pati del C.C.Calisay - Riera del Pare Fita, 31
ORGANIZER:Geganters d'Arenys de Mar
DESCRIPTION:L'inici de festa més animat amb la Banda de l'EMA i els gegants Tallaferro i Flor d'Alba!
URL:https://arenysdemar.cat/document.php?id=31402
END:VEVENT
END:VCALENDAR