BEGIN:VCALENDAR
VERSION:2.0
PRODID:-//Plone.org//NONSGML plone.app.event//EN
X-WR-TIMEZONE:Europe/Madrid
BEGIN:VEVENT
SUMMARY:Concert de Blaumut: El primer arbre del bosc
DTSTART;TZID=Europe/Madrid;VALUE=DATE-TIME:20160603T220000
DTEND;TZID=Europe/Madrid;VALUE=DATE-TIME:20160603T230000
DTSTAMP;VALUE=DATE-TIME:20260420T095226Z
UID:a0123dab14381cb703824352ba1dda5f
CREATED;VALUE=DATE-TIME:20160603T000000Z
CATEGORIES:Música
LOCATION:Castell Jalpí
ORGANIZER:Ajuntaments d'Arenys de Mar i d'Arenys de Munt
COMMENT:Preu: 12. Venda d'entrades anticipades a l'Ajuntament d'Arenys de Munt de dilluns a divendres de 10 del matí a les 2 del migdia i dijous de 5 a 7 de la tarda
DESCRIPTION:Festival de Música Mediterrània
URL:https://arenysdemar.cat/document.php?id=31412
END:VEVENT
END:VCALENDAR