BEGIN:VCALENDAR
VERSION:2.0
PRODID:-//Plone.org//NONSGML plone.app.event//EN
X-WR-TIMEZONE:Europe/Madrid
BEGIN:VEVENT
SUMMARY:Concert de Coetus: Entre tierras
DTSTART;TZID=Europe/Madrid;VALUE=DATE-TIME:20160610T220000
DTEND;TZID=Europe/Madrid;VALUE=DATE-TIME:20160610T230000
DTSTAMP;VALUE=DATE-TIME:20260420T094812Z
UID:ca0baf10fd5463a4ec62ee9677c2128f
CREATED;VALUE=DATE-TIME:20160610T000000Z
CATEGORIES:Música
LOCATION:Castell Jalpí
ORGANIZER:Ajuntaments d'Arenys de Mar i d'Arenys de Munt
COMMENT:Preu: 12. Venda d'entrades anticipades a l'Ajuntament d'Arenys de Munt de dilluns a divendres de 10 del matí a les 2 del migdia i dijous de 5 a 7 de la tarda
DESCRIPTION:Festival de Música Mediterrània
URL:https://arenysdemar.cat/document.php?id=31414
END:VEVENT
END:VCALENDAR