BEGIN:VCALENDAR
VERSION:2.0
PRODID:-//Plone.org//NONSGML plone.app.event//EN
X-WR-TIMEZONE:Europe/Madrid
BEGIN:VEVENT
SUMMARY:Concert de Nadal
DTSTART;TZID=Europe/Madrid;VALUE=DATE-TIME:20161216T210000
DTEND;TZID=Europe/Madrid;VALUE=DATE-TIME:20161216T220000
DTSTAMP;VALUE=DATE-TIME:20260424T235346Z
UID:62641d232ab5dd3e464db5b46eb9deac
CREATED;VALUE=DATE-TIME:20161216T000000Z
CATEGORIES:Música
LOCATION:Església de Santa Maria - Plaça de l'Església
ORGANIZER:Societat Coral l'Esperança
COMMENT:Preu: en benefici de la Marató de TV3
DESCRIPTION:a càrrec de la Societat Coral l'Esperança
URL:https://arenysdemar.cat/document.php?id=31430
END:VEVENT
END:VCALENDAR