BEGIN:VCALENDAR
VERSION:2.0
PRODID:-//Plone.org//NONSGML plone.app.event//EN
X-WR-TIMEZONE:Europe/Madrid
BEGIN:VEVENT
SUMMARY:Concert de banda
DTSTART;TZID=Europe/Madrid;VALUE=DATE-TIME:20160708T200000
DTEND;TZID=Europe/Madrid;VALUE=DATE-TIME:20160708T210000
DTSTAMP;VALUE=DATE-TIME:20260425T033152Z
UID:845ccb9fb3f0a2800db54afd7e7a078c
CREATED;VALUE=DATE-TIME:20160708T000000Z
CATEGORIES:Festa
LOCATION:Plaça de l'Ajuntament - Riera Bisbe Pol, 8
ORGANIZER:Ajuntament d'Arenys de Mar i l'Escola Municipal de Música d'Arenys de Mar
DESCRIPTION:a càrrec de la Banda de l'Escola Municipal de Música d'Arenys de Mar
URL:https://arenysdemar.cat/document.php?id=31440
END:VEVENT
END:VCALENDAR