BEGIN:VCALENDAR
VERSION:2.0
PRODID:-//Plone.org//NONSGML plone.app.event//EN
X-WR-TIMEZONE:Europe/Madrid
BEGIN:VEVENT
SUMMARY:Birra & Tapes al Mercat
DTSTART;TZID=Europe/Madrid;VALUE=DATE-TIME:20160617T200000
DTEND;TZID=Europe/Madrid;VALUE=DATE-TIME:20160617T210000
DTSTAMP;VALUE=DATE-TIME:20260420T095050Z
UID:5d58fbab67349ae1a30520e3944f3988
CREATED;VALUE=DATE-TIME:20160617T000000Z
LOCATION:Mercat municipal - Riera Bisbe Pol, 82
ORGANIZER:Regidoria de Promoció Econòmica
URL:https://arenysdemar.cat/document.php?id=31447
END:VEVENT
END:VCALENDAR