BEGIN:VCALENDAR
VERSION:2.0
PRODID:-//Plone.org//NONSGML plone.app.event//EN
X-WR-TIMEZONE:Europe/Madrid
BEGIN:VEVENT
SUMMARY:Ball popular de Festa Major
DTSTART;TZID=Europe/Madrid;VALUE=DATE-TIME:20160709T233000
DTEND;TZID=Europe/Madrid;VALUE=DATE-TIME:20160710T003000
DTSTAMP;VALUE=DATE-TIME:20260425T011034Z
UID:09f657839473beec98360b6f49aa06ce
CREATED;VALUE=DATE-TIME:20160709T000000Z
CATEGORIES:Festa
LOCATION:Riera, davant del Xifré
ORGANIZER:Ajuntament d'Arenys de Mar
COMMENT:Durada: fins les 2 de la matinada
DESCRIPTION:a càrrec de l'Orquestra Maravella
URL:https://arenysdemar.cat/document.php?id=31454
END:VEVENT
END:VCALENDAR