BEGIN:VCALENDAR
VERSION:2.0
PRODID:-//Plone.org//NONSGML plone.app.event//EN
X-WR-TIMEZONE:Europe/Madrid
BEGIN:VEVENT
SUMMARY:Nòmada Trio
DTSTART;TZID=Europe/Madrid;VALUE=DATE-TIME:20160715T210000
DTEND;TZID=Europe/Madrid;VALUE=DATE-TIME:20160715T220000
DTSTAMP;VALUE=DATE-TIME:20260425T051656Z
UID:8d01724fd2c21687ae2d423b2a151b32
CREATED;VALUE=DATE-TIME:20160715T000000Z
CATEGORIES:Música
LOCATION:Pati del Xifré - Auterive, s/n
ORGANIZER:Ajuntament d'Arenys de Mar
COMMENT:Preu: 8 &euro; anticipada i 10 &euro; a taquilla (preu pels 4 concerts d'aquest dia)
DESCRIPTION:25è Festival de Jazz d'Arenys de Mar
URL:https://arenysdemar.cat/document.php?id=31464
END:VEVENT
END:VCALENDAR