BEGIN:VCALENDAR
VERSION:2.0
PRODID:-//Plone.org//NONSGML plone.app.event//EN
X-WR-TIMEZONE:Europe/Madrid
BEGIN:VEVENT
SUMMARY:Big Band Jazz Maresme & The Hanfris Quartet
DTSTART;TZID=Europe/Madrid;VALUE=DATE-TIME:20160812T223000
DTEND;TZID=Europe/Madrid;VALUE=DATE-TIME:20160812T233000
DTSTAMP;VALUE=DATE-TIME:20260425T123922Z
UID:17ae9dc09d1ed3bc5085f06c8ae681b7
CREATED;VALUE=DATE-TIME:20160812T000000Z
CATEGORIES:Música
LOCATION:Pati del Xifré - Auterive, s/n
ORGANIZER:Ajuntament d'Arenys de Mar
COMMENT:Preu: 8 &euro; anticipada i 10 &euro; a taquilla (preu pels 4 concerts d'aquest dia)
DESCRIPTION:25è Festival de Jazz d'Arenys de Mar
URL:https://arenysdemar.cat/document.php?id=31471
END:VEVENT
END:VCALENDAR