BEGIN:VCALENDAR
VERSION:2.0
PRODID:-//Plone.org//NONSGML plone.app.event//EN
X-WR-TIMEZONE:Europe/Madrid
BEGIN:VEVENT
SUMMARY:Música: Emocions i sentiments
DTSTART;TZID=Europe/Madrid;VALUE=DATE-TIME:20160611T200000
DTEND;TZID=Europe/Madrid;VALUE=DATE-TIME:20160611T210000
DTSTAMP;VALUE=DATE-TIME:20260420T024501Z
UID:45d1c941e0a345650dd658d625eb8090
CREATED;VALUE=DATE-TIME:20160611T000000Z
CATEGORIES:Dansa,Música
LOCATION:Teatre Principal - C. Església, 45-47
ORGANIZER:Associació Escola de Música
COMMENT:Preu: Entrada lliure
DESCRIPTION:a càrrec de la Coral Rodamón, el Cor Adàmaris, el Cor de l'Escola Municipal de Música de Mataró i els alumnes de dansa de l'Aula de teatre de Mataró
URL:https://arenysdemar.cat/document.php?id=31481
END:VEVENT
END:VCALENDAR