BEGIN:VCALENDAR
VERSION:2.0
PRODID:-//Plone.org//NONSGML plone.app.event//EN
X-WR-TIMEZONE:Europe/Madrid
BEGIN:VEVENT
SUMMARY:Campionat Wii Mario Kart
DTSTART;TZID=Europe/Madrid;VALUE=DATE-TIME:20160604T173000
DTEND;TZID=Europe/Madrid;VALUE=DATE-TIME:20160604T183000
DTSTAMP;VALUE=DATE-TIME:20260421T134526Z
UID:158d312d410cef028a06ad292b6da2de
CREATED;VALUE=DATE-TIME:20160604T000000Z
LOCATION:Espai Jove del C.C.Calisay - Riera del Pare Fita, 31
ORGANIZER:Regidoria d'Infància i Joventut
URL:https://arenysdemar.cat/document.php?id=31490
END:VEVENT
END:VCALENDAR