BEGIN:VCALENDAR
VERSION:2.0
PRODID:-//Plone.org//NONSGML plone.app.event//EN
X-WR-TIMEZONE:Europe/Madrid
BEGIN:VEVENT
SUMMARY:Ofici en honor a Sant Roc i renovació del Vot de Vila
DTSTART;TZID=Europe/Madrid;VALUE=DATE-TIME:20160816T190000
DTEND;TZID=Europe/Madrid;VALUE=DATE-TIME:20160816T200000
DTSTAMP;VALUE=DATE-TIME:20260425T051711Z
UID:e9a8b0f931b26c78ee5f8f99f3478f2e
CREATED;VALUE=DATE-TIME:20160816T000000Z
CATEGORIES:Festa
LOCATION:Església de Santa Maria - Plaça de l'Església
ORGANIZER:Parròquia de Santa Maria d'Arenys de Mar
URL:https://arenysdemar.cat/document.php?id=31497
END:VEVENT
END:VCALENDAR