BEGIN:VCALENDAR
VERSION:2.0
PRODID:-//Plone.org//NONSGML plone.app.event//EN
X-WR-TIMEZONE:Europe/Madrid
BEGIN:VEVENT
SUMMARY:24a Mostra de dansa
DTSTART;TZID=Europe/Madrid;VALUE=DATE-TIME:20160716T220000
DTEND;TZID=Europe/Madrid;VALUE=DATE-TIME:20160716T230000
DTSTAMP;VALUE=DATE-TIME:20260425T034624Z
UID:13e7679a180aad03e43cab67b5202f00
CREATED;VALUE=DATE-TIME:20160716T000000Z
CATEGORIES:Dansa
LOCATION:Plaça de l'Església - Plaça de l'Església
ORGANIZER:Escola de Dansa Sinera i Ajuntament d'Arenys de Mar
URL:https://arenysdemar.cat/document.php?id=31499
END:VEVENT
END:VCALENDAR