BEGIN:VCALENDAR
VERSION:2.0
PRODID:-//Plone.org//NONSGML plone.app.event//EN
X-WR-TIMEZONE:Europe/Madrid
BEGIN:VEVENT
SUMMARY:Wine & Tapes al mercat
DTSTART;TZID=Europe/Madrid;VALUE=DATE-TIME:20160722T200000
DTEND;TZID=Europe/Madrid;VALUE=DATE-TIME:20160722T210000
DTSTAMP;VALUE=DATE-TIME:20260425T125309Z
UID:7b8b77e4f084823bc700a0a702f5f4b3
CREATED;VALUE=DATE-TIME:20160722T000000Z
CATEGORIES:Festa
LOCATION:Mercat municipal - Riera Bisbe Pol, 82
ORGANIZER:Regidoria de Promoció Econòmica
URL:https://arenysdemar.cat/document.php?id=31519
END:VEVENT
END:VCALENDAR