BEGIN:VCALENDAR
VERSION:2.0
PRODID:-//Plone.org//NONSGML plone.app.event//EN
X-WR-TIMEZONE:Europe/Madrid
BEGIN:VEVENT
SUMMARY:Cine pícnic
DTSTART;TZID=Europe/Madrid;VALUE=DATE-TIME:20160802T220000
DTEND;TZID=Europe/Madrid;VALUE=DATE-TIME:20160802T230000
DTSTAMP;VALUE=DATE-TIME:20260425T033534Z
UID:66dfe6f017ef98c1c767aa9ea8080ca4
CREATED;VALUE=DATE-TIME:20160802T000000Z
CATEGORIES:Cinema
LOCATION:Platja de la Picòrdia (davant de la caseta de salvament)
ORGANIZER:Plataforma per la Llengua
DESCRIPTION:Pan
URL:https://arenysdemar.cat/document.php?id=31522
END:VEVENT
END:VCALENDAR