BEGIN:VCALENDAR
VERSION:2.0
PRODID:-//Plone.org//NONSGML plone.app.event//EN
X-WR-TIMEZONE:Europe/Madrid
BEGIN:VEVENT
SUMMARY:Concert en directe
DTSTART;TZID=Europe/Madrid;VALUE=DATE-TIME:20160828T200000
DTEND;TZID=Europe/Madrid;VALUE=DATE-TIME:20160828T210000
DTSTAMP;VALUE=DATE-TIME:20260425T034757Z
UID:cb6fbd7420343a8d5eb8ab12de5c257f
CREATED;VALUE=DATE-TIME:20160828T000000Z
CATEGORIES:Música
LOCATION:Biblioplatja - Platja de la Picòrdia
ORGANIZER:Biblioteca - Regidoria de Cultura
DESCRIPTION:a càrrec de Nòmada Trio
URL:https://arenysdemar.cat/document.php?id=31550
END:VEVENT
END:VCALENDAR