BEGIN:VCALENDAR
VERSION:2.0
PRODID:-//Plone.org//NONSGML plone.app.event//EN
X-WR-TIMEZONE:Europe/Madrid
BEGIN:VEVENT
SUMMARY:Presentació de llibre. Un vestit blau a la maleta, de Noemí Bibolas. Arola Editors
DTSTART;TZID=Europe/Madrid;VALUE=DATE-TIME:20160701T200000
DTEND;TZID=Europe/Madrid;VALUE=DATE-TIME:20160701T210000
DTSTAMP;VALUE=DATE-TIME:20260425T031215Z
UID:c0a17db4a75ca6616ad893d6b543d485
CREATED;VALUE=DATE-TIME:20160701T000000Z
CATEGORIES:Literatura
LOCATION:Sala d'Actes de la Biblioteca - C. Bonaire, 2
ORGANIZER:Biblioteca - Regidoria de Cultura
DESCRIPTION:a càrrec de Jordi Llavina
URL:https://arenysdemar.cat/document.php?id=31557
END:VEVENT
END:VCALENDAR