BEGIN:VCALENDAR
VERSION:2.0
PRODID:-//Plone.org//NONSGML plone.app.event//EN
X-WR-TIMEZONE:Europe/Madrid
BEGIN:VEVENT
SUMMARY:Arenys de Contes. 13è Festival de Contes per a adults. "Cantos y cuentos de mis últimos cien años"
DTSTART;TZID=Europe/Madrid;VALUE=DATE-TIME:20160831T220000
DTEND;TZID=Europe/Madrid;VALUE=DATE-TIME:20160831T230000
DTSTAMP;VALUE=DATE-TIME:20260425T143534Z
UID:bc47db014c1602bc3bb187ba974b7e26
CREATED;VALUE=DATE-TIME:20160831T000000Z
CATEGORIES:Literatura
LOCATION:Biblioplatja - Platja de la Picòrdia
ORGANIZER:Biblioteca - Regidoria de Cultura
DESCRIPTION:a càrrec d'Alekos
URL:https://arenysdemar.cat/document.php?id=31558
END:VEVENT
END:VCALENDAR