BEGIN:VCALENDAR
VERSION:2.0
PRODID:-//Plone.org//NONSGML plone.app.event//EN
X-WR-TIMEZONE:Europe/Madrid
BEGIN:VEVENT
SUMMARY:Arenys de Contes. 13è Festival de Contes per a adults. Juglaries
DTSTART;TZID=Europe/Madrid;VALUE=DATE-TIME:20160810T220000
DTEND;TZID=Europe/Madrid;VALUE=DATE-TIME:20160810T230000
DTSTAMP;VALUE=DATE-TIME:20260425T143550Z
UID:c7d92ce4fb5a8c710343f6b016acff5c
CREATED;VALUE=DATE-TIME:20160810T000000Z
CATEGORIES:Literatura
LOCATION:Biblioplatja - Platja de la Picòrdia
ORGANIZER:Biblioteca - Regidoria de Cultura
DESCRIPTION:a càrrec d'UllDistret i música a càrrec d'Ester Ferran
URL:https://arenysdemar.cat/document.php?id=31562
END:VEVENT
END:VCALENDAR