BEGIN:VCALENDAR
VERSION:2.0
PRODID:-//Plone.org//NONSGML plone.app.event//EN
X-WR-TIMEZONE:Europe/Madrid
BEGIN:VEVENT
SUMMARY:Festival de Dansa
DTSTART;TZID=Europe/Madrid;VALUE=DATE-TIME:20160722T193000
DTEND;TZID=Europe/Madrid;VALUE=DATE-TIME:20160722T203000
DTSTAMP;VALUE=DATE-TIME:20260425T124354Z
UID:c56e81b8a6f40e20fc1d9a8a8246bdac
CREATED;VALUE=DATE-TIME:20160722T000000Z
CATEGORIES:Dansa
LOCATION:Teatre dels Seràfics
ORGANIZER:Organitzat per Escola de Ballet d´Arenys i Associació d'Amics de la Dansa
COMMENT:Preu: Entrada lliure, cal reservar les invitacions a la mateixa escola o al telèfon 937920571
DESCRIPTION:LVè aniversari de l'Escola de Ballet d'Arenys
URL:https://arenysdemar.cat/document.php?id=31568
END:VEVENT
END:VCALENDAR