BEGIN:VCALENDAR
VERSION:2.0
PRODID:-//Plone.org//NONSGML plone.app.event//EN
X-WR-TIMEZONE:Europe/Madrid
BEGIN:VEVENT
SUMMARY:Esport i salut, dóna-li corda al teu cos: Mil passos. Aprendre a caminar per evitar males postures
DTSTART;TZID=Europe/Madrid;VALUE=DATE-TIME:20160829T090000
DTEND;TZID=Europe/Madrid;VALUE=DATE-TIME:20160829T100000
DTSTAMP;VALUE=DATE-TIME:20260425T194422Z
UID:f9e0c37982e41003590bd4424e245a31
CREATED;VALUE=DATE-TIME:20160829T000000Z
CATEGORIES:Esports
LOCATION:Biblioplatja - Platja de la Picòrdia
ORGANIZER:Biblioteca - Regidoria de Cultura
COMMENT:Preu: Places limitades - Inscripcions a la Biblioteca o a la Biblioplatja
DESCRIPTION:a càrrec d´Eric Medina, llicenciat en INEFC
URL:https://arenysdemar.cat/document.php?id=31627
END:VEVENT
END:VCALENDAR