BEGIN:VCALENDAR
VERSION:2.0
PRODID:-//Plone.org//NONSGML plone.app.event//EN
X-WR-TIMEZONE:Europe/Madrid
BEGIN:VEVENT
SUMMARY:Inauguració de l'exposició Mirant i emmarcant el passat
DTSTART;TZID=Europe/Madrid;VALUE=DATE-TIME:20160805T200000
DTEND;TZID=Europe/Madrid;VALUE=DATE-TIME:20160805T210000
DTSTAMP;VALUE=DATE-TIME:20260425T032631Z
UID:ddf8e338408bf20b17dcf7931bcb16c9
CREATED;VALUE=DATE-TIME:20160805T000000Z
CATEGORIES:Exposició
LOCATION:Sala Exposicions del C.C.Calisay - Riera del Pare Fita, 31
ORGANIZER:Ajuntament d'Arenys de Mar
COMMENT:Durada: Fins al 28 d´agost
DESCRIPTION:Obres de Joan Manel Salichs
URL:https://arenysdemar.cat/document.php?id=31659
END:VEVENT
END:VCALENDAR