BEGIN:VCALENDAR
VERSION:2.0
PRODID:-//Plone.org//NONSGML plone.app.event//EN
X-WR-TIMEZONE:Europe/Madrid
BEGIN:VEVENT
SUMMARY:Gran Concert de Nadal
DTSTART;TZID=Europe/Madrid;VALUE=DATE-TIME:20161218T190000
DTEND;TZID=Europe/Madrid;VALUE=DATE-TIME:20161218T200000
DTSTAMP;VALUE=DATE-TIME:20260420T024843Z
UID:fd6b5e7d5499d9c29bd87af85f0272c4
CREATED;VALUE=DATE-TIME:20161218T000000Z
CATEGORIES:Música
LOCATION:Teatre Principal - C. Església, 45-47
ORGANIZER:S.C. L'Esperança i Regidoria de Cultura
COMMENT:Preu: 12&euro; anticipada, 15&euro; taquilla i 10&euro; socis
DESCRIPTION:Valsos de Johann Strauss a càrrec de l'Orquestra de Cambra de l'Empordà
URL:https://arenysdemar.cat/document.php?id=31693
END:VEVENT
END:VCALENDAR