BEGIN:VCALENDAR
VERSION:2.0
PRODID:-//Plone.org//NONSGML plone.app.event//EN
X-WR-TIMEZONE:Europe/Madrid
BEGIN:VEVENT
SUMMARY:Òpera: Els contes de Hoffmann
DTSTART;TZID=Europe/Madrid;VALUE=DATE-TIME:20161115T201500
DTEND;TZID=Europe/Madrid;VALUE=DATE-TIME:20161115T211500
DTSTAMP;VALUE=DATE-TIME:20260420T044304Z
UID:fee5265b8163f91ceb41f9b7db2f1043
CREATED;VALUE=DATE-TIME:20161115T000000Z
CATEGORIES:Cinema
LOCATION:Teatre Principal - C. Església, 45-47
ORGANIZER:S.C. L'Esperança i Regidoria de Cultura
COMMENT:Preu: 15 anticipada, 17 a taquilla i 13 socis
DESCRIPTION:Retransmissió en directe des de la Royal Opera House de Londres
URL:https://arenysdemar.cat/document.php?id=31698
END:VEVENT
END:VCALENDAR