BEGIN:VCALENDAR
VERSION:2.0
PRODID:-//Plone.org//NONSGML plone.app.event//EN
X-WR-TIMEZONE:Europe/Madrid
BEGIN:VEVENT
SUMMARY:Teatre familiar: El molinet màgic
DTSTART;TZID=Europe/Madrid;VALUE=DATE-TIME:20161030T180000
DTEND;TZID=Europe/Madrid;VALUE=DATE-TIME:20161030T190000
DTSTAMP;VALUE=DATE-TIME:20260424T143836Z
UID:47c7d1e9a611a352174e9f7adae3c97a
CREATED;VALUE=DATE-TIME:20161030T000000Z
CATEGORIES:Infantils
LOCATION:Teatre Principal - C. Església, 45-47
ORGANIZER:S.C. L'Esperança i Regidoria de Cultura
COMMENT:Preu: 5 anticipada, 6 taquilla i 4 socis
DESCRIPTION:a càrrec de la Cia. Engruna Teatre
URL:https://arenysdemar.cat/document.php?id=31702
END:VEVENT
END:VCALENDAR