BEGIN:VCALENDAR
VERSION:2.0
PRODID:-//Plone.org//NONSGML plone.app.event//EN
X-WR-TIMEZONE:Europe/Madrid
BEGIN:VEVENT
SUMMARY:Òpera: Macbeth Opera de Giuseppe Verdi
DTSTART;TZID=Europe/Madrid;VALUE=DATE-TIME:20161020T200000
DTEND;TZID=Europe/Madrid;VALUE=DATE-TIME:20161020T210000
DTSTAMP;VALUE=DATE-TIME:20260420T004454Z
UID:f344c9ef21fa4b86de7c6a1e7fed9f88
CREATED;VALUE=DATE-TIME:20161020T000000Z
CATEGORIES:Cinema
LOCATION:Teatre Principal - C. Església, 45-47
ORGANIZER:S. C. L'Esperança i Regidoria de Cultura
COMMENT:Preu: 15 anticipada, 17 a taquilla i 13 socis
DESCRIPTION:Retransmissió en directe des del Gran Teatre del Liceu
URL:https://arenysdemar.cat/document.php?id=31704
END:VEVENT
END:VCALENDAR