BEGIN:VCALENDAR
VERSION:2.0
PRODID:-//Plone.org//NONSGML plone.app.event//EN
X-WR-TIMEZONE:Europe/Madrid
BEGIN:VEVENT
SUMMARY:Òpera: Cosí fan Tutte Opera de Mozart
DTSTART;TZID=Europe/Madrid;VALUE=DATE-TIME:20161017T193000
DTEND;TZID=Europe/Madrid;VALUE=DATE-TIME:20161017T203000
DTSTAMP;VALUE=DATE-TIME:20260423T232917Z
UID:5a517fda360ac3e20d36d26937dabbb5
CREATED;VALUE=DATE-TIME:20161017T000000Z
CATEGORIES:Cinema
LOCATION:Teatre Principal - C. Església, 45-47
ORGANIZER:S.C. L'Esperança i Regidoria de Cultura
COMMENT:Preu: 15 anticipada, 17 a taquilla i 13 socis
DESCRIPTION:Retransmissió en directe des de l'Opera House de Londres
URL:https://arenysdemar.cat/document.php?id=31705
END:VEVENT
END:VCALENDAR