BEGIN:VCALENDAR
VERSION:2.0
PRODID:-//Plone.org//NONSGML plone.app.event//EN
X-WR-TIMEZONE:Europe/Madrid
BEGIN:VEVENT
SUMMARY:Cercavila nocturna de gegants
DTSTART;TZID=Europe/Madrid;VALUE=DATE-TIME:20160814T220000
DTEND;TZID=Europe/Madrid;VALUE=DATE-TIME:20160814T230000
DTSTAMP;VALUE=DATE-TIME:20260425T053019Z
UID:4885f56d525b6ba196221e2d47fc5ba7
CREATED;VALUE=DATE-TIME:20160814T000000Z
CATEGORIES:Festa
LOCATION:Riera, davant del Xifré
ORGANIZER:Geganters d'Arenys de Mar i  Ajuntament d'Arenys de Mar
URL:https://arenysdemar.cat/document.php?id=31710
END:VEVENT
END:VCALENDAR