BEGIN:VCALENDAR
VERSION:2.0
PRODID:-//Plone.org//NONSGML plone.app.event//EN
X-WR-TIMEZONE:Europe/Madrid
BEGIN:VEVENT
SUMMARY:Tradicional Simultània d'escacs
DTSTART;TZID=Europe/Madrid;VALUE=DATE-TIME:20160814T100000
DTEND;TZID=Europe/Madrid;VALUE=DATE-TIME:20160814T110000
DTSTAMP;VALUE=DATE-TIME:20260425T143445Z
UID:6fc4cdf6e1cdefae40e43c932032eade
CREATED;VALUE=DATE-TIME:20160814T000000Z
CATEGORIES:Esports
LOCATION:Ateneu Arenyenc - Anselm Clavé, 22
ORGANIZER:Secció jocs de taula Ateneu
COMMENT:Preu: Gratuït
URL:https://arenysdemar.cat/document.php?id=31715
END:VEVENT
END:VCALENDAR