BEGIN:VCALENDAR
VERSION:2.0
PRODID:-//Plone.org//NONSGML plone.app.event//EN
X-WR-TIMEZONE:Europe/Madrid
BEGIN:VEVENT
SUMMARY:Platges Netes
DTSTART;TZID=Europe/Madrid;VALUE=DATE-TIME:20160724T100000
DTEND;TZID=Europe/Madrid;VALUE=DATE-TIME:20160724T110000
DTSTAMP;VALUE=DATE-TIME:20260420T024734Z
UID:4166137990f63d5302955d437c6b3062
CREATED;VALUE=DATE-TIME:20160724T000000Z
LOCATION:Platja Cavaió
ORGANIZER:Proactiva i Ajuntament d'Arenys de Mar
DESCRIPTION:Activitat de sensibilització ambiental per no embrutar les platges
URL:https://arenysdemar.cat/document.php?id=31725
END:VEVENT
END:VCALENDAR