BEGIN:VCALENDAR
VERSION:2.0
PRODID:-//Plone.org//NONSGML plone.app.event//EN
X-WR-TIMEZONE:Europe/Madrid
BEGIN:VEVENT
SUMMARY:Dansa: Teen time gone
DTSTART;TZID=Europe/Madrid;VALUE=DATE-TIME:20160910T180000
DTEND;TZID=Europe/Madrid;VALUE=DATE-TIME:20160910T190000
DTSTAMP;VALUE=DATE-TIME:20260425T124216Z
UID:ed41e4c4b1ebcf17cd8de3719f45c1df
CREATED;VALUE=DATE-TIME:20160910T000000Z
CATEGORIES:Dansa
LOCATION:Sala Polivalent del C.C.Calisay - Riera Pare Fita, 31
ORGANIZER:Regidoria de Cultura
COMMENT:Preu: 4e. 2a sessió a les 20.15h
DESCRIPTION:a càrrec de la Cia. Habemus Corpus dirigida per Miquel G. Font
URL:https://arenysdemar.cat/document.php?id=31732
END:VEVENT
END:VCALENDAR