BEGIN:VCALENDAR
VERSION:2.0
PRODID:-//Plone.org//NONSGML plone.app.event//EN
X-WR-TIMEZONE:Europe/Madrid
BEGIN:VEVENT
SUMMARY:Xa Pujada al Montalt a penjar l'estelada.
DTSTART;TZID=Europe/Madrid;VALUE=DATE-TIME:20160904T080000
DTEND;TZID=Europe/Madrid;VALUE=DATE-TIME:20160904T090000
DTSTAMP;VALUE=DATE-TIME:20260425T142341Z
UID:2e5dfae255763af474c772871373d9e5
CREATED;VALUE=DATE-TIME:20160904T000000Z
LOCATION:Plaça de l'Església - Plaça de l'Església
ORGANIZER:CUP
COMMENT:Durada: Matinal
URL:https://arenysdemar.cat/document.php?id=31783
END:VEVENT
END:VCALENDAR