BEGIN:VCALENDAR
VERSION:2.0
PRODID:-//Plone.org//NONSGML plone.app.event//EN
X-WR-TIMEZONE:Europe/Madrid
BEGIN:VEVENT
SUMMARY:Nàufrags
DTSTART;TZID=Europe/Madrid;VALUE=DATE-TIME:20161106T190000
DTEND;TZID=Europe/Madrid;VALUE=DATE-TIME:20161106T200000
DTSTAMP;VALUE=DATE-TIME:20260424T201911Z
UID:30a697322a78f7d697023b5cd572fcf3
CREATED;VALUE=DATE-TIME:20161106T000000Z
CATEGORIES:Teatre
LOCATION:Teatre Principal - C. Església, 45-47
ORGANIZER:S.C. L'Esperança i Regidoria de Cultura
COMMENT:Preu: Anticipada 12&euro;, taquilla 15&euro; i socis 10&euro;
DESCRIPTION:a càrrec de la Cia. Santa Mandra
URL:https://arenysdemar.cat/document.php?id=31789
END:VEVENT
END:VCALENDAR