BEGIN:VCALENDAR
VERSION:2.0
PRODID:-//Plone.org//NONSGML plone.app.event//EN
X-WR-TIMEZONE:Europe/Madrid
BEGIN:VEVENT
SUMMARY:Presentació del libre de l'Agrupació Fotogràfica d'Arenys de Mar: 100 retrats viscuts. Un agraïment fotogràfic a la gent d'Arenys de Mar
DTSTART;TZID=Europe/Madrid;VALUE=DATE-TIME:20161014T200000
DTEND;TZID=Europe/Madrid;VALUE=DATE-TIME:20161014T210000
DTSTAMP;VALUE=DATE-TIME:20260425T143458Z
UID:56900a7f89f537380cb8a6096df6e482
CREATED;VALUE=DATE-TIME:20161014T000000Z
CATEGORIES:Conferència
LOCATION:Teatre Principal - C. Església, 45-47
ORGANIZER:Crea't Edicions i Agrupació Fotogràfica d'Arenys de Mar
COMMENT:Preu: Preu del llibre: 18 en el moment de la presentació i 20 a les llibreries
DESCRIPTION:a càrrec d'Annabel Moreno, alcaldessa d'Arenys de Mar, Enric Sierra, periodista, Oriol Ferran, membre de Crea't Edicions i Txeni Gil membre de l'AFA
URL:https://arenysdemar.cat/document.php?id=31805
END:VEVENT
END:VCALENDAR