BEGIN:VCALENDAR
VERSION:2.0
PRODID:-//Plone.org//NONSGML plone.app.event//EN
X-WR-TIMEZONE:Europe/Madrid
BEGIN:VEVENT
SUMMARY:Inici del Curs d'iniciació a la fotografia
DTSTART;TZID=Europe/Madrid;VALUE=DATE-TIME:20161008T100000
DTEND;TZID=Europe/Madrid;VALUE=DATE-TIME:20161008T110000
DTSTAMP;VALUE=DATE-TIME:20260422T120203Z
UID:773115b4881605d47c7ff0c3311ab61a
CREATED;VALUE=DATE-TIME:20161008T000000Z
CATEGORIES:Cursos
LOCATION:Seràfics
ORGANIZER:Agrupació Fotogràfica d'Arenys de Mar
COMMENT:Preu: 40
Durada: També els dies 15, 22, 23 i 29 d'octubre
URL:https://arenysdemar.cat/document.php?id=31806
END:VEVENT
END:VCALENDAR