BEGIN:VCALENDAR
VERSION:2.0
PRODID:-//Plone.org//NONSGML plone.app.event//EN
X-WR-TIMEZONE:Europe/Madrid
BEGIN:VEVENT
SUMMARY:Converses a la carta en francès: Français à la carte
DTSTART;TZID=Europe/Madrid;VALUE=DATE-TIME:20161005T190000
DTEND;TZID=Europe/Madrid;VALUE=DATE-TIME:20161005T200000
DTSTAMP;VALUE=DATE-TIME:20260424T010209Z
UID:8dcfe1c677ca3ab0e57c7a887ee60939
CREATED;VALUE=DATE-TIME:20161005T000000Z
CATEGORIES:Literatura
LOCATION:Biblioteca - Bonaire, 2
ORGANIZER:Biblioteca-Regidoria de Cultura
DESCRIPTION:a càrrec de Dominique Jiménez
URL:https://arenysdemar.cat/document.php?id=31815
END:VEVENT
END:VCALENDAR