BEGIN:VCALENDAR
VERSION:2.0
PRODID:-//Plone.org//NONSGML plone.app.event//EN
X-WR-TIMEZONE:Europe/Madrid
BEGIN:VEVENT
SUMMARY:Hora del conte: La vella castanyera
DTSTART;TZID=Europe/Madrid;VALUE=DATE-TIME:20161027T180000
DTEND;TZID=Europe/Madrid;VALUE=DATE-TIME:20161027T190000
DTSTAMP;VALUE=DATE-TIME:20260421T233046Z
UID:743b94d1bf6da7f70134bc85cec0ec0b
CREATED;VALUE=DATE-TIME:20161027T000000Z
CATEGORIES:Infantils
LOCATION:Sala d'Actes de la Biblioteca - C. Bonaire, 2
ORGANIZER:Biblioteca-Regidoria de Cultura
DESCRIPTION:a càrrec de Montserrat Jordà
URL:https://arenysdemar.cat/document.php?id=31818
END:VEVENT
END:VCALENDAR