BEGIN:VCALENDAR
VERSION:2.0
PRODID:-//Plone.org//NONSGML plone.app.event//EN
X-WR-TIMEZONE:Europe/Madrid
BEGIN:VEVENT
SUMMARY:Hora del conte especial Calamarenys
DTSTART;TZID=Europe/Madrid;VALUE=DATE-TIME:20161020T180000
DTEND;TZID=Europe/Madrid;VALUE=DATE-TIME:20161020T190000
DTSTAMP;VALUE=DATE-TIME:20260419T190328Z
UID:7269da0c0214a80a0bce61570036035e
CREATED;VALUE=DATE-TIME:20161020T000000Z
CATEGORIES:Infantils
LOCATION:Sala d'Actes de la Biblioteca - C. Bonaire, 2
ORGANIZER:Biblioteca-Regidoria de Cultura  i Regidoria de Promoció Econòmica Local
DESCRIPTION:a càrrec de Quim Mas i Joan Monfort
URL:https://arenysdemar.cat/document.php?id=31819
END:VEVENT
END:VCALENDAR